BEGIN:VCALENDAR
VERSION:2.0
PRODID:-//Zonta Club of Porterville - ECPv6.15.20//NONSGML v1.0//EN
CALSCALE:GREGORIAN
METHOD:PUBLISH
X-WR-CALNAME:Zonta Club of Porterville
X-ORIGINAL-URL:https://zontaclubofporterville.org
X-WR-CALDESC:Events for Zonta Club of Porterville
REFRESH-INTERVAL;VALUE=DURATION:PT1H
X-Robots-Tag:noindex
X-PUBLISHED-TTL:PT1H
BEGIN:VTIMEZONE
TZID:America/Los_Angeles
BEGIN:DAYLIGHT
TZOFFSETFROM:-0800
TZOFFSETTO:-0700
TZNAME:PDT
DTSTART:20250309T100000
END:DAYLIGHT
BEGIN:STANDARD
TZOFFSETFROM:-0700
TZOFFSETTO:-0800
TZNAME:PST
DTSTART:20251102T090000
END:STANDARD
BEGIN:DAYLIGHT
TZOFFSETFROM:-0800
TZOFFSETTO:-0700
TZNAME:PDT
DTSTART:20260308T100000
END:DAYLIGHT
BEGIN:STANDARD
TZOFFSETFROM:-0700
TZOFFSETTO:-0800
TZNAME:PST
DTSTART:20261101T090000
END:STANDARD
BEGIN:DAYLIGHT
TZOFFSETFROM:-0800
TZOFFSETTO:-0700
TZNAME:PDT
DTSTART:20270314T100000
END:DAYLIGHT
BEGIN:STANDARD
TZOFFSETFROM:-0700
TZOFFSETTO:-0800
TZNAME:PST
DTSTART:20271107T090000
END:STANDARD
END:VTIMEZONE
BEGIN:VEVENT
DTSTART;TZID=America/Los_Angeles:20260307T180000
DTEND;TZID=America/Los_Angeles:20260307T210000
DTSTAMP:20260418T231738
CREATED:20250125T055614Z
LAST-MODIFIED:20251104T072102Z
UID:1601-1772906400-1772917200@zontaclubofporterville.org
SUMMARY:An Evening of Art & Wine
DESCRIPTION:https://docs.google.com/document/d/1R0Yf9mQZdv2QeOvD_um1vofQs3Jb7oNZQWhqOn1xrOc/edit?usp=drive_link \n  \n 
URL:https://zontaclubofporterville.org/event/an-evening-of-art-wine/
LOCATION:Nuckols Ranch\, 13144 Road 216\, Porterville\, CA\, 93257\, United States
END:VEVENT
END:VCALENDAR