BEGIN:VCALENDAR
VERSION:2.0
PRODID:-//Zonta Club of Porterville - ECPv6.15.20//NONSGML v1.0//EN
CALSCALE:GREGORIAN
METHOD:PUBLISH
X-ORIGINAL-URL:https://zontaclubofporterville.org
X-WR-CALDESC:Events for Zonta Club of Porterville
REFRESH-INTERVAL;VALUE=DURATION:PT1H
X-Robots-Tag:noindex
X-PUBLISHED-TTL:PT1H
BEGIN:VTIMEZONE
TZID:America/Los_Angeles
BEGIN:DAYLIGHT
TZOFFSETFROM:-0800
TZOFFSETTO:-0700
TZNAME:PDT
DTSTART:20230312T100000
END:DAYLIGHT
BEGIN:STANDARD
TZOFFSETFROM:-0700
TZOFFSETTO:-0800
TZNAME:PST
DTSTART:20231105T090000
END:STANDARD
BEGIN:DAYLIGHT
TZOFFSETFROM:-0800
TZOFFSETTO:-0700
TZNAME:PDT
DTSTART:20240310T100000
END:DAYLIGHT
BEGIN:STANDARD
TZOFFSETFROM:-0700
TZOFFSETTO:-0800
TZNAME:PST
DTSTART:20241103T090000
END:STANDARD
BEGIN:DAYLIGHT
TZOFFSETFROM:-0800
TZOFFSETTO:-0700
TZNAME:PDT
DTSTART:20250309T100000
END:DAYLIGHT
BEGIN:STANDARD
TZOFFSETFROM:-0700
TZOFFSETTO:-0800
TZNAME:PST
DTSTART:20251102T090000
END:STANDARD
BEGIN:DAYLIGHT
TZOFFSETFROM:-0800
TZOFFSETTO:-0700
TZNAME:PDT
DTSTART:20260308T100000
END:DAYLIGHT
BEGIN:STANDARD
TZOFFSETFROM:-0700
TZOFFSETTO:-0800
TZNAME:PST
DTSTART:20261101T090000
END:STANDARD
BEGIN:DAYLIGHT
TZOFFSETFROM:-0800
TZOFFSETTO:-0700
TZNAME:PDT
DTSTART:20270314T100000
END:DAYLIGHT
BEGIN:STANDARD
TZOFFSETFROM:-0700
TZOFFSETTO:-0800
TZNAME:PST
DTSTART:20271107T090000
END:STANDARD
END:VTIMEZONE
BEGIN:VEVENT
DTSTART;TZID=America/Los_Angeles:20260307T180000
DTEND;TZID=America/Los_Angeles:20260307T210000
DTSTAMP:20260417T135922
CREATED:20250125T055614Z
LAST-MODIFIED:20251104T072102Z
UID:1601-1772906400-1772917200@zontaclubofporterville.org
SUMMARY:An Evening of Art & Wine
DESCRIPTION:https://docs.google.com/document/d/1R0Yf9mQZdv2QeOvD_um1vofQs3Jb7oNZQWhqOn1xrOc/edit?usp=drive_link \n  \n 
URL:https://zontaclubofporterville.org/event/an-evening-of-art-wine/
LOCATION:Nuckols Ranch\, 13144 Road 216\, Porterville\, CA\, 93257\, United States
END:VEVENT
BEGIN:VEVENT
DTSTART;TZID=America/Los_Angeles:20251206T180000
DTEND;TZID=America/Los_Angeles:20251206T210000
DTSTAMP:20260417T135922
CREATED:20251207T020053Z
LAST-MODIFIED:20250630T193324Z
UID:1591-1765044000-1765054800@zontaclubofporterville.org
SUMMARY:Christmas Home Tour 2025
DESCRIPTION:
URL:https://zontaclubofporterville.org/event/home-tour-event/
LOCATION:Nuckols Ranch\, 13144 Road 216\, Porterville\, CA\, 93257\, United States
END:VEVENT
BEGIN:VEVENT
DTSTART;TZID=America/Los_Angeles:20250930T173000
DTEND;TZID=America/Los_Angeles:20250930T200000
DTSTAMP:20260417T135922
CREATED:20250928T051825Z
LAST-MODIFIED:20250928T051825Z
UID:1669-1759253400-1759262400@zontaclubofporterville.org
SUMMARY:Program Meeting/Z Club Installation
DESCRIPTION:
URL:https://zontaclubofporterville.org/event/program-meeting-z-club-installation/
LOCATION:First Congregational Church\, 165 E. Mill\, Porterville\, CA\, 93257\, United States
END:VEVENT
BEGIN:VEVENT
DTSTART;TZID=America/Los_Angeles:20250929T170000
DTEND;TZID=America/Los_Angeles:20250929T180000
DTSTAMP:20260417T135922
CREATED:20250928T051555Z
LAST-MODIFIED:20250928T051555Z
UID:1662-1759165200-1759168800@zontaclubofporterville.org
SUMMARY:Board Meeting
DESCRIPTION:
URL:https://zontaclubofporterville.org/event/board-meeting-2/
LOCATION:Daybell Community Room
END:VEVENT
BEGIN:VEVENT
DTSTART;TZID=America/Los_Angeles:20240827T173000
DTEND;TZID=America/Los_Angeles:20240827T183000
DTSTAMP:20260417T135922
CREATED:20240718T230524Z
LAST-MODIFIED:20240718T230524Z
UID:1525-1724779800-1724783400@zontaclubofporterville.org
SUMMARY:Program Meeting
DESCRIPTION:Reservation required; please contact us to RSVP
URL:https://zontaclubofporterville.org/event/program-meeting/
LOCATION:Westwood Village Community Room\, 100 S Westwood St\, Porterville\, CA\, 93257
END:VEVENT
BEGIN:VEVENT
DTSTART;TZID=America/Los_Angeles:20240823T173000
DTEND;TZID=America/Los_Angeles:20240823T183000
DTSTAMP:20260417T135922
CREATED:20240718T230307Z
LAST-MODIFIED:20240718T230307Z
UID:1522-1724434200-1724437800@zontaclubofporterville.org
SUMMARY:A&W Meeting
DESCRIPTION:
URL:https://zontaclubofporterville.org/event/aw-meeting/
LOCATION:Larisa’s Home Furnishing\, 159 N Main St\, Porterville\, CA\, 93257
END:VEVENT
BEGIN:VEVENT
DTSTART;TZID=America/Los_Angeles:20240814T171500
DTEND;TZID=America/Los_Angeles:20240814T181500
DTSTAMP:20260417T135922
CREATED:20240718T215857Z
LAST-MODIFIED:20240810T222606Z
UID:1519-1723655700-1723659300@zontaclubofporterville.org
SUMMARY:CHT Meeting
DESCRIPTION:
URL:https://zontaclubofporterville.org/event/cht-meeting-2/
LOCATION:Poor Richard’s Pizza\, 205 N Main St\, Porterville\, CA\, 93257
END:VEVENT
BEGIN:VEVENT
DTSTART;TZID=America/Los_Angeles:20240813T120000
DTEND;TZID=America/Los_Angeles:20240813T130000
DTSTAMP:20260417T135922
CREATED:20240718T212530Z
LAST-MODIFIED:20240718T213716Z
UID:1505-1723550400-1723554000@zontaclubofporterville.org
SUMMARY:Zonta Business Meeting
DESCRIPTION:Please contact us for more information or to make a reservation.
URL:https://zontaclubofporterville.org/event/zonta-business-meeting/
LOCATION:Palace Kitchen & Craft Bar\, 22 E Oak Ave\, Porterville\, CA\, 93257
END:VEVENT
BEGIN:VEVENT
DTSTART;TZID=America/Los_Angeles:20240805T170000
DTEND;TZID=America/Los_Angeles:20240805T180000
DTSTAMP:20260417T135922
CREATED:20240718T215730Z
LAST-MODIFIED:20240718T230738Z
UID:1517-1722877200-1722880800@zontaclubofporterville.org
SUMMARY:Board Meeting
DESCRIPTION:
URL:https://zontaclubofporterville.org/event/board-meeting/
LOCATION:Daybell Community Room
END:VEVENT
BEGIN:VEVENT
DTSTART;TZID=America/Los_Angeles:20240803T150000
DTEND;TZID=America/Los_Angeles:20240803T180000
DTSTAMP:20260417T135922
CREATED:20240718T215347Z
LAST-MODIFIED:20240718T215347Z
UID:1511-1722697200-1722708000@zontaclubofporterville.org
SUMMARY:First Friday with Zonta
DESCRIPTION:Please contact us for location or to RSVP.
URL:https://zontaclubofporterville.org/event/first-friday-with-zonta/
LOCATION:CA
END:VEVENT
BEGIN:VEVENT
DTSTART;TZID=America/Los_Angeles:20240722T173000
DTEND;TZID=America/Los_Angeles:20240722T183000
DTSTAMP:20260417T135922
CREATED:20240718T215526Z
LAST-MODIFIED:20240718T230652Z
UID:1513-1721669400-1721673000@zontaclubofporterville.org
SUMMARY:Advocacy Meeting
DESCRIPTION:
URL:https://zontaclubofporterville.org/event/advocacy-meeting/
LOCATION:Daybell Community Room
END:VEVENT
BEGIN:VEVENT
DTSTART;TZID=America/Los_Angeles:20240717T170000
DTEND;TZID=America/Los_Angeles:20240717T180000
DTSTAMP:20260417T135922
CREATED:20240718T215558Z
LAST-MODIFIED:20240718T215558Z
UID:1515-1721235600-1721239200@zontaclubofporterville.org
SUMMARY:CHT Meeting
DESCRIPTION:
URL:https://zontaclubofporterville.org/event/cht-meeting/
LOCATION:CA
END:VEVENT
END:VCALENDAR