BEGIN:VCALENDAR
VERSION:2.0
PRODID:-//Zonta Club of Porterville - ECPv6.15.20//NONSGML v1.0//EN
CALSCALE:GREGORIAN
METHOD:PUBLISH
X-WR-CALNAME:Zonta Club of Porterville
X-ORIGINAL-URL:https://zontaclubofporterville.org
X-WR-CALDESC:Events for Zonta Club of Porterville
REFRESH-INTERVAL;VALUE=DURATION:PT1H
X-Robots-Tag:noindex
X-PUBLISHED-TTL:PT1H
BEGIN:VTIMEZONE
TZID:America/Los_Angeles
BEGIN:DAYLIGHT
TZOFFSETFROM:-0800
TZOFFSETTO:-0700
TZNAME:PDT
DTSTART:20230312T100000
END:DAYLIGHT
BEGIN:STANDARD
TZOFFSETFROM:-0700
TZOFFSETTO:-0800
TZNAME:PST
DTSTART:20231105T090000
END:STANDARD
BEGIN:DAYLIGHT
TZOFFSETFROM:-0800
TZOFFSETTO:-0700
TZNAME:PDT
DTSTART:20240310T100000
END:DAYLIGHT
BEGIN:STANDARD
TZOFFSETFROM:-0700
TZOFFSETTO:-0800
TZNAME:PST
DTSTART:20241103T090000
END:STANDARD
BEGIN:DAYLIGHT
TZOFFSETFROM:-0800
TZOFFSETTO:-0700
TZNAME:PDT
DTSTART:20250309T100000
END:DAYLIGHT
BEGIN:STANDARD
TZOFFSETFROM:-0700
TZOFFSETTO:-0800
TZNAME:PST
DTSTART:20251102T090000
END:STANDARD
END:VTIMEZONE
BEGIN:VEVENT
DTSTART;TZID=America/Los_Angeles:20240813T120000
DTEND;TZID=America/Los_Angeles:20240813T130000
DTSTAMP:20260423T010327
CREATED:20240718T212530Z
LAST-MODIFIED:20240718T213716Z
UID:1505-1723550400-1723554000@zontaclubofporterville.org
SUMMARY:Zonta Business Meeting
DESCRIPTION:Please contact us for more information or to make a reservation.
URL:https://zontaclubofporterville.org/event/zonta-business-meeting/
LOCATION:Palace Kitchen & Craft Bar\, 22 E Oak Ave\, Porterville\, CA\, 93257
END:VEVENT
END:VCALENDAR